BEGIN:VCALENDAR
VERSION:2.0
PRODID:-//Now &amp; Then Chicago Cover Band - ECPv6.15.20//NONSGML v1.0//EN
CALSCALE:GREGORIAN
METHOD:PUBLISH
X-WR-CALNAME:Now &amp; Then Chicago Cover Band
X-ORIGINAL-URL:https://nowandthenchicago.com
X-WR-CALDESC:Events for Now &amp; Then Chicago Cover Band
REFRESH-INTERVAL;VALUE=DURATION:PT1H
X-Robots-Tag:noindex
X-PUBLISHED-TTL:PT1H
BEGIN:VTIMEZONE
TZID:America/Chicago
BEGIN:DAYLIGHT
TZOFFSETFROM:-0600
TZOFFSETTO:-0500
TZNAME:CDT
DTSTART:20210314T080000
END:DAYLIGHT
BEGIN:STANDARD
TZOFFSETFROM:-0500
TZOFFSETTO:-0600
TZNAME:CST
DTSTART:20211107T070000
END:STANDARD
BEGIN:DAYLIGHT
TZOFFSETFROM:-0600
TZOFFSETTO:-0500
TZNAME:CDT
DTSTART:20220313T080000
END:DAYLIGHT
BEGIN:STANDARD
TZOFFSETFROM:-0500
TZOFFSETTO:-0600
TZNAME:CST
DTSTART:20221106T070000
END:STANDARD
BEGIN:DAYLIGHT
TZOFFSETFROM:-0600
TZOFFSETTO:-0500
TZNAME:CDT
DTSTART:20230312T080000
END:DAYLIGHT
BEGIN:STANDARD
TZOFFSETFROM:-0500
TZOFFSETTO:-0600
TZNAME:CST
DTSTART:20231105T070000
END:STANDARD
BEGIN:DAYLIGHT
TZOFFSETFROM:-0600
TZOFFSETTO:-0500
TZNAME:CDT
DTSTART:20240310T080000
END:DAYLIGHT
BEGIN:STANDARD
TZOFFSETFROM:-0500
TZOFFSETTO:-0600
TZNAME:CST
DTSTART:20241103T070000
END:STANDARD
BEGIN:DAYLIGHT
TZOFFSETFROM:-0600
TZOFFSETTO:-0500
TZNAME:CDT
DTSTART:20250309T080000
END:DAYLIGHT
BEGIN:STANDARD
TZOFFSETFROM:-0500
TZOFFSETTO:-0600
TZNAME:CST
DTSTART:20251102T070000
END:STANDARD
BEGIN:DAYLIGHT
TZOFFSETFROM:-0600
TZOFFSETTO:-0500
TZNAME:CDT
DTSTART:20260308T080000
END:DAYLIGHT
BEGIN:STANDARD
TZOFFSETFROM:-0500
TZOFFSETTO:-0600
TZNAME:CST
DTSTART:20261101T070000
END:STANDARD
END:VTIMEZONE
BEGIN:VEVENT
DTSTART;TZID=America/Chicago:20251212T200000
DTEND;TZID=America/Chicago:20251212T233000
DTSTAMP:20260421T071415
CREATED:20250820T135639Z
LAST-MODIFIED:20250820T135639Z
UID:10000076-1765569600-1765582200@nowandthenchicago.com
SUMMARY:Peggy Kinnane's - Arlington Heights
DESCRIPTION:
URL:https://nowandthenchicago.com/show/peggy-kinnanes-arlington-heights-251212/
LOCATION:Peggy Kinnane’s Irish Restaurant & Pub\, 8 N Vail Ave.\, Arlington Heights\, IL\, 60035\, United States
CATEGORIES:Cover Band in Chicago
ORGANIZER;CN="Now & Then Chicago":MAILTO:info@nowandthenchicago.com
GEO:42.0829998;-87.984578
X-APPLE-STRUCTURED-LOCATION;VALUE=URI;X-ADDRESS=Peggy Kinnane’s Irish Restaurant & Pub 8 N Vail Ave. Arlington Heights IL 60035 United States;X-APPLE-RADIUS=500;X-TITLE=8 N Vail Ave.:geo:-87.984578,42.0829998
END:VEVENT
BEGIN:VEVENT
DTSTART;TZID=America/Chicago:20251017T200000
DTEND;TZID=America/Chicago:20251017T233000
DTSTAMP:20260421T071415
CREATED:20250820T135556Z
LAST-MODIFIED:20250820T135556Z
UID:10000075-1760731200-1760743800@nowandthenchicago.com
SUMMARY:Peggy Kinnane's - Arlington Heights
DESCRIPTION:
URL:https://nowandthenchicago.com/show/peggy-kinnanes-arlington-heights-251017/
LOCATION:Peggy Kinnane’s Irish Restaurant & Pub\, 8 N Vail Ave.\, Arlington Heights\, IL\, 60035\, United States
CATEGORIES:Cover Band in Chicago
ORGANIZER;CN="Now & Then Chicago":MAILTO:info@nowandthenchicago.com
GEO:42.0829998;-87.984578
X-APPLE-STRUCTURED-LOCATION;VALUE=URI;X-ADDRESS=Peggy Kinnane’s Irish Restaurant & Pub 8 N Vail Ave. Arlington Heights IL 60035 United States;X-APPLE-RADIUS=500;X-TITLE=8 N Vail Ave.:geo:-87.984578,42.0829998
END:VEVENT
BEGIN:VEVENT
DTSTART;TZID=America/Chicago:20250920T193000
DTEND;TZID=America/Chicago:20250920T210000
DTSTAMP:20260421T071415
CREATED:20250820T135351Z
LAST-MODIFIED:20250820T135351Z
UID:10000074-1758396600-1758402000@nowandthenchicago.com
SUMMARY:TRUCKTOBERFEST 2025 - Park Ridge\, IL
DESCRIPTION:
URL:https://nowandthenchicago.com/show/trucktoberfest2025/
LOCATION:Park Ridge City Hall\, 505 Butler Pl\, Park Ridge\, IL\, 60068\, United States
CATEGORIES:Cover Band in Chicago
ORGANIZER;CN="Now & Then Chicago":MAILTO:info@nowandthenchicago.com
GEO:42.0081422;-87.8305297
X-APPLE-STRUCTURED-LOCATION;VALUE=URI;X-ADDRESS=Park Ridge City Hall 505 Butler Pl Park Ridge IL 60068 United States;X-APPLE-RADIUS=500;X-TITLE=505 Butler Pl:geo:-87.8305297,42.0081422
END:VEVENT
BEGIN:VEVENT
DTSTART;TZID=America/Chicago:20250808T180000
DTEND;TZID=America/Chicago:20250808T220000
DTSTAMP:20260421T071415
CREATED:20250609T173610Z
LAST-MODIFIED:20250609T173610Z
UID:10000073-1754676000-1754690400@nowandthenchicago.com
SUMMARY:On Your Feet: Gather 2025 - Evanston\, IL
DESCRIPTION:
URL:https://nowandthenchicago.com/show/on-your-feet-gather-2025-evanston-il/
LOCATION:IL
CATEGORIES:Cover Band in Chicago
ORGANIZER;CN="Now & Then Chicago":MAILTO:info@nowandthenchicago.com
END:VEVENT
BEGIN:VEVENT
DTSTART;TZID=America/Chicago:20250412T200000
DTEND;TZID=America/Chicago:20250412T200000
DTSTAMP:20260421T071415
CREATED:20250302T170931Z
LAST-MODIFIED:20250302T170931Z
UID:10000072-1744488000-1744488000@nowandthenchicago.com
SUMMARY:Peggy Kinnane's - Arlington Heights
DESCRIPTION:
URL:https://nowandthenchicago.com/show/peggy-kinnanes-arlington-heights-7/
LOCATION:Peggy Kinnane’s Irish Restaurant & Pub\, 8 N Vail Ave.\, Arlington Heights\, IL\, 60035\, United States
CATEGORIES:Cover Band in Chicago
ORGANIZER;CN="Now & Then Chicago":MAILTO:info@nowandthenchicago.com
GEO:42.0829998;-87.984578
X-APPLE-STRUCTURED-LOCATION;VALUE=URI;X-ADDRESS=Peggy Kinnane’s Irish Restaurant & Pub 8 N Vail Ave. Arlington Heights IL 60035 United States;X-APPLE-RADIUS=500;X-TITLE=8 N Vail Ave.:geo:-87.984578,42.0829998
END:VEVENT
BEGIN:VEVENT
DTSTART;TZID=America/Chicago:20250117T190000
DTEND;TZID=America/Chicago:20250117T220000
DTSTAMP:20260421T071415
CREATED:20240923T181901Z
LAST-MODIFIED:20240923T181901Z
UID:10000071-1737140400-1737151200@nowandthenchicago.com
SUMMARY:The Parlor Speakeasy (Primo) - Gurnee
DESCRIPTION:
URL:https://nowandthenchicago.com/show/the-parlor-speakeasy-primo-gurnee-2/
LOCATION:Primo\, 720 Milwaukee Ave\, Gurnee\, Illinois\, 60031\, United States
CATEGORIES:Cover Band in Chicago
ORGANIZER;CN="Now & Then Chicago":MAILTO:info@nowandthenchicago.com
END:VEVENT
BEGIN:VEVENT
DTSTART;TZID=America/Chicago:20241116T193000
DTEND;TZID=America/Chicago:20241116T193000
DTSTAMP:20260421T071415
CREATED:20240705T165437Z
LAST-MODIFIED:20240705T165437Z
UID:10000069-1731785400-1731785400@nowandthenchicago.com
SUMMARY:Ten Ninety Brewing Co - Glenview
DESCRIPTION:
URL:https://nowandthenchicago.com/show/ten-ninety-brewing-co-glenview-3/
LOCATION:Ten-Ninety Brewing Co.\, 1025 Waukegan Rd\, Glenview\, IL\, 60025\, United States
CATEGORIES:Cover Band in Chicago
ORGANIZER;CN="Now & Then Chicago":MAILTO:info@nowandthenchicago.com
GEO:42.0733333;-87.7986111
X-APPLE-STRUCTURED-LOCATION;VALUE=URI;X-ADDRESS=Ten-Ninety Brewing Co. 1025 Waukegan Rd Glenview IL 60025 United States;X-APPLE-RADIUS=500;X-TITLE=1025 Waukegan Rd:geo:-87.7986111,42.0733333
END:VEVENT
BEGIN:VEVENT
DTSTART;TZID=America/Chicago:20241115T190000
DTEND;TZID=America/Chicago:20241115T220000
DTSTAMP:20260421T071415
CREATED:20240923T183049Z
LAST-MODIFIED:20240923T182028Z
UID:10000070-1731697200-1731708000@nowandthenchicago.com
SUMMARY:The Parlor Speakeasy (Primo) - Gurnee
DESCRIPTION:
URL:https://nowandthenchicago.com/show/the-parlor-speakeasy-primo-gurnee/
LOCATION:Primo\, 720 Milwaukee Ave\, Gurnee\, Illinois\, 60031\, United States
CATEGORIES:Cover Band in Chicago
ORGANIZER;CN="Now & Then Chicago":MAILTO:info@nowandthenchicago.com
END:VEVENT
BEGIN:VEVENT
DTSTART;TZID=America/Chicago:20240928T180000
DTEND;TZID=America/Chicago:20240928T220000
DTSTAMP:20260421T071415
CREATED:20240521T135739Z
LAST-MODIFIED:20240521T135739Z
UID:10000067-1727546400-1727560800@nowandthenchicago.com
SUMMARY:Private Event - Chicago IL
DESCRIPTION:
URL:https://nowandthenchicago.com/show/private-event-chicago-il/
LOCATION:IL
CATEGORIES:Cover Band in Chicago
ORGANIZER;CN="Now & Then Chicago":MAILTO:info@nowandthenchicago.com
END:VEVENT
BEGIN:VEVENT
DTSTART;TZID=America/Chicago:20240727T200000
DTEND;TZID=America/Chicago:20240727T200000
DTSTAMP:20260421T071415
CREATED:20240418T215727Z
LAST-MODIFIED:20240418T215727Z
UID:10000066-1722110400-1722110400@nowandthenchicago.com
SUMMARY:Peggy Kinnane's - Arlington Heights
DESCRIPTION:
URL:https://nowandthenchicago.com/show/peggy-kinnanes-arlington-heights-6/
LOCATION:Peggy Kinnane’s Irish Restaurant & Pub\, 8 N Vail Ave.\, Arlington Heights\, IL\, 60035\, United States
CATEGORIES:Cover Band in Chicago
ORGANIZER;CN="Now & Then Chicago":MAILTO:info@nowandthenchicago.com
GEO:42.0829998;-87.984578
X-APPLE-STRUCTURED-LOCATION;VALUE=URI;X-ADDRESS=Peggy Kinnane’s Irish Restaurant & Pub 8 N Vail Ave. Arlington Heights IL 60035 United States;X-APPLE-RADIUS=500;X-TITLE=8 N Vail Ave.:geo:-87.984578,42.0829998
END:VEVENT
BEGIN:VEVENT
DTSTART;TZID=America/Chicago:20240613T150000
DTEND;TZID=America/Chicago:20240613T180000
DTSTAMP:20260421T071415
CREATED:20240226T214639Z
LAST-MODIFIED:20240226T214639Z
UID:10000064-1718290800-1718301600@nowandthenchicago.com
SUMMARY:Private Event - Chicago IL
DESCRIPTION:
URL:https://nowandthenchicago.com/show/private-event-chicago-il-240613/
LOCATION:IL
CATEGORIES:Cover Band in Chicago
ORGANIZER;CN="Now & Then Chicago":MAILTO:info@nowandthenchicago.com
END:VEVENT
BEGIN:VEVENT
DTSTART;TZID=America/Chicago:20240608T200000
DTEND;TZID=America/Chicago:20240608T200000
DTSTAMP:20260421T071415
CREATED:20231129T215307Z
LAST-MODIFIED:20231129T215307Z
UID:10000063-1717876800-1717876800@nowandthenchicago.com
SUMMARY:Whiskey River - Glenview
DESCRIPTION:
URL:https://nowandthenchicago.com/show/whiskey-river-glenview/
LOCATION:Whiskey River Bar & Grill\, 1850 Waukegan Rd\, Glenview\, IL\, 60025\, United States
CATEGORIES:Cover Band in Chicago
ORGANIZER;CN="Now & Then Chicago":MAILTO:info@nowandthenchicago.com
GEO:42.0887402;-87.7985421
X-APPLE-STRUCTURED-LOCATION;VALUE=URI;X-ADDRESS=Whiskey River Bar & Grill 1850 Waukegan Rd Glenview IL 60025 United States;X-APPLE-RADIUS=500;X-TITLE=1850 Waukegan Rd:geo:-87.7985421,42.0887402
END:VEVENT
BEGIN:VEVENT
DTSTART;TZID=America/Chicago:20240518T200000
DTEND;TZID=America/Chicago:20240518T200000
DTSTAMP:20260421T071415
CREATED:20240418T215649Z
LAST-MODIFIED:20240418T215649Z
UID:10000065-1716062400-1716062400@nowandthenchicago.com
SUMMARY:Peggy Kinnane's - Arlington Heights
DESCRIPTION:
URL:https://nowandthenchicago.com/show/peggy-kinnanes-arlington-heights-5/
LOCATION:Peggy Kinnane’s Irish Restaurant & Pub\, 8 N Vail Ave.\, Arlington Heights\, IL\, 60035\, United States
CATEGORIES:Cover Band in Chicago
ORGANIZER;CN="Now & Then Chicago":MAILTO:info@nowandthenchicago.com
GEO:42.0829998;-87.984578
X-APPLE-STRUCTURED-LOCATION;VALUE=URI;X-ADDRESS=Peggy Kinnane’s Irish Restaurant & Pub 8 N Vail Ave. Arlington Heights IL 60035 United States;X-APPLE-RADIUS=500;X-TITLE=8 N Vail Ave.:geo:-87.984578,42.0829998
END:VEVENT
BEGIN:VEVENT
DTSTART;TZID=America/Chicago:20240420T200000
DTEND;TZID=America/Chicago:20240420T200000
DTSTAMP:20260421T071415
CREATED:20231129T215112Z
LAST-MODIFIED:20231129T215112Z
UID:10000062-1713643200-1713643200@nowandthenchicago.com
SUMMARY:Peggy Kinnane's - Arlington Heights
DESCRIPTION:
URL:https://nowandthenchicago.com/show/peggy-kinnanes-arlington-heights-4/
LOCATION:Peggy Kinnane’s Irish Restaurant & Pub\, 8 N Vail Ave.\, Arlington Heights\, IL\, 60035\, United States
CATEGORIES:Cover Band in Chicago
ORGANIZER;CN="Now & Then Chicago":MAILTO:info@nowandthenchicago.com
GEO:42.0829998;-87.984578
X-APPLE-STRUCTURED-LOCATION;VALUE=URI;X-ADDRESS=Peggy Kinnane’s Irish Restaurant & Pub 8 N Vail Ave. Arlington Heights IL 60035 United States;X-APPLE-RADIUS=500;X-TITLE=8 N Vail Ave.:geo:-87.984578,42.0829998
END:VEVENT
BEGIN:VEVENT
DTSTART;TZID=America/Chicago:20240316T193000
DTEND;TZID=America/Chicago:20240316T193000
DTSTAMP:20260421T071415
CREATED:20231129T214941Z
LAST-MODIFIED:20231129T214941Z
UID:10000061-1710617400-1710617400@nowandthenchicago.com
SUMMARY:Ten Ninety Brewing Co - Glenview
DESCRIPTION:
URL:https://nowandthenchicago.com/show/ten-ninety-brewing-co-glenview-2/
LOCATION:Ten-Ninety Brewing Co.\, 1025 Waukegan Rd\, Glenview\, IL\, 60025\, United States
CATEGORIES:Cover Band in Chicago
ORGANIZER;CN="Now & Then Chicago":MAILTO:info@nowandthenchicago.com
GEO:42.0733333;-87.7986111
X-APPLE-STRUCTURED-LOCATION;VALUE=URI;X-ADDRESS=Ten-Ninety Brewing Co. 1025 Waukegan Rd Glenview IL 60025 United States;X-APPLE-RADIUS=500;X-TITLE=1025 Waukegan Rd:geo:-87.7986111,42.0733333
END:VEVENT
BEGIN:VEVENT
DTSTART;TZID=America/Chicago:20240203T200000
DTEND;TZID=America/Chicago:20240203T200000
DTSTAMP:20260421T071415
CREATED:20231129T214831Z
LAST-MODIFIED:20231129T214831Z
UID:10000060-1706990400-1706990400@nowandthenchicago.com
SUMMARY:Peggy Kinnane's - Arlington Heights
DESCRIPTION:
URL:https://nowandthenchicago.com/show/peggy-kinnanes-arlington-heights-3/
LOCATION:Peggy Kinnane’s Irish Restaurant & Pub\, 8 N Vail Ave.\, Arlington Heights\, IL\, 60035\, United States
CATEGORIES:Cover Band in Chicago
ORGANIZER;CN="Now & Then Chicago":MAILTO:info@nowandthenchicago.com
GEO:42.0829998;-87.984578
X-APPLE-STRUCTURED-LOCATION;VALUE=URI;X-ADDRESS=Peggy Kinnane’s Irish Restaurant & Pub 8 N Vail Ave. Arlington Heights IL 60035 United States;X-APPLE-RADIUS=500;X-TITLE=8 N Vail Ave.:geo:-87.984578,42.0829998
END:VEVENT
BEGIN:VEVENT
DTSTART;TZID=America/Chicago:20231230T200000
DTEND;TZID=America/Chicago:20231230T233000
DTSTAMP:20260421T071415
CREATED:20231109T010357Z
LAST-MODIFIED:20231109T010357Z
UID:10000059-1703966400-1703979000@nowandthenchicago.com
SUMMARY:Peggy Kinnane’s - Arlington Heights
DESCRIPTION:
URL:https://nowandthenchicago.com/show/peggy-kinnanes-arlington-heights-2/
LOCATION:Peggy Kinnane’s Irish Restaurant & Pub\, 8 N Vail Ave.\, Arlington Heights\, IL\, 60035\, United States
CATEGORIES:Cover Band in Chicago
ORGANIZER;CN="Now & Then Chicago":MAILTO:info@nowandthenchicago.com
GEO:42.0829998;-87.984578
X-APPLE-STRUCTURED-LOCATION;VALUE=URI;X-ADDRESS=Peggy Kinnane’s Irish Restaurant & Pub 8 N Vail Ave. Arlington Heights IL 60035 United States;X-APPLE-RADIUS=500;X-TITLE=8 N Vail Ave.:geo:-87.984578,42.0829998
END:VEVENT
BEGIN:VEVENT
DTSTART;TZID=America/Chicago:20231103T200000
DTEND;TZID=America/Chicago:20231103T200000
DTSTAMP:20260421T071415
CREATED:20230422T174745Z
LAST-MODIFIED:20230422T174745Z
UID:10000047-1699041600-1699041600@nowandthenchicago.com
SUMMARY:Peggy Kinnane's - Arlington Heights
DESCRIPTION:
URL:https://nowandthenchicago.com/show/peggy-kinnanes-arlington-heights/
LOCATION:Peggy Kinnane’s Irish Restaurant & Pub\, 8 N Vail Ave.\, Arlington Heights\, IL\, 60035\, United States
CATEGORIES:Cover Band in Chicago
ORGANIZER;CN="Now & Then Chicago":MAILTO:info@nowandthenchicago.com
GEO:42.0829998;-87.984578
X-APPLE-STRUCTURED-LOCATION;VALUE=URI;X-ADDRESS=Peggy Kinnane’s Irish Restaurant & Pub 8 N Vail Ave. Arlington Heights IL 60035 United States;X-APPLE-RADIUS=500;X-TITLE=8 N Vail Ave.:geo:-87.984578,42.0829998
END:VEVENT
BEGIN:VEVENT
DTSTART;TZID=America/Chicago:20231021T193000
DTEND;TZID=America/Chicago:20231021T220000
DTSTAMP:20260421T071415
CREATED:20230704T193611Z
LAST-MODIFIED:20230704T193611Z
UID:10000056-1697916600-1697925600@nowandthenchicago.com
SUMMARY:Ten Ninety Brewing Co - Glenview\, IL
DESCRIPTION:
URL:https://nowandthenchicago.com/show/ten-ninety-brewing-co-glenview-il-2/
LOCATION:Ten-Ninety Brewing Co.\, 1025 Waukegan Rd\, Glenview\, IL\, 60025\, United States
CATEGORIES:Cover Band in Chicago
ORGANIZER;CN="Now & Then Chicago":MAILTO:info@nowandthenchicago.com
GEO:42.0733333;-87.7986111
X-APPLE-STRUCTURED-LOCATION;VALUE=URI;X-ADDRESS=Ten-Ninety Brewing Co. 1025 Waukegan Rd Glenview IL 60025 United States;X-APPLE-RADIUS=500;X-TITLE=1025 Waukegan Rd:geo:-87.7986111,42.0733333
END:VEVENT
BEGIN:VEVENT
DTSTART;TZID=America/Chicago:20231008T150000
DTEND;TZID=America/Chicago:20231008T180000
DTSTAMP:20260421T071415
CREATED:20230906T152531Z
LAST-MODIFIED:20230906T152531Z
UID:10000058-1696777200-1696788000@nowandthenchicago.com
SUMMARY:Private Event - Whiting IN
DESCRIPTION:
URL:https://nowandthenchicago.com/show/private-event-whiting-in/
LOCATION:IL
CATEGORIES:Cover Band in Chicago
ORGANIZER;CN="Now & Then Chicago":MAILTO:info@nowandthenchicago.com
END:VEVENT
BEGIN:VEVENT
DTSTART;TZID=America/Chicago:20231007T180000
DTEND;TZID=America/Chicago:20231007T235900
DTSTAMP:20260421T071415
CREATED:20230510T194113Z
LAST-MODIFIED:20230912T194341Z
UID:10000050-1696701600-1696723140@nowandthenchicago.com
SUMMARY:Kenosha YMCA Fall Fest - Kenosha WI
DESCRIPTION:
URL:https://nowandthenchicago.com/show/private-event-kenosha-wi/
LOCATION:Kenosha YMCA\, 7101 53rd Street\, Kenosha\, WI\, 53144\, United States
CATEGORIES:Cover Band in Chicago
ORGANIZER;CN="Now & Then Chicago":MAILTO:info@nowandthenchicago.com
GEO:42.5869133;-87.8964918
X-APPLE-STRUCTURED-LOCATION;VALUE=URI;X-ADDRESS=Kenosha YMCA 7101 53rd Street Kenosha WI 53144 United States;X-APPLE-RADIUS=500;X-TITLE=7101 53rd Street:geo:-87.8964918,42.5869133
END:VEVENT
BEGIN:VEVENT
DTSTART;TZID=America/Chicago:20230923T210000
DTEND;TZID=America/Chicago:20230923T233000
DTSTAMP:20260421T071415
CREATED:20230609T011612Z
LAST-MODIFIED:20230609T011612Z
UID:10000055-1695502800-1695511800@nowandthenchicago.com
SUMMARY:Whiskey River - Glenview\, IL
DESCRIPTION:
URL:https://nowandthenchicago.com/show/whiskey-river-glenview-il/
LOCATION:Whiskey River Bar & Grill\, 1850 Waukegan Rd\, Glenview\, IL\, 60025\, United States
CATEGORIES:Cover Band in Chicago
GEO:42.0887402;-87.7985421
X-APPLE-STRUCTURED-LOCATION;VALUE=URI;X-ADDRESS=Whiskey River Bar & Grill 1850 Waukegan Rd Glenview IL 60025 United States;X-APPLE-RADIUS=500;X-TITLE=1850 Waukegan Rd:geo:-87.7985421,42.0887402
END:VEVENT
BEGIN:VEVENT
DTSTART;TZID=America/Chicago:20230908T190000
DTEND;TZID=America/Chicago:20230908T210000
DTSTAMP:20260421T071415
CREATED:20230726T222356Z
LAST-MODIFIED:20230906T152602Z
UID:10000057-1694199600-1694206800@nowandthenchicago.com
SUMMARY:On Your Feet: Gather 2023 - Evanston\, IL
DESCRIPTION:
URL:https://nowandthenchicago.com/show/on-your-feet-gather-2023-evanston-il/
LOCATION:La Principal\, 700 Main St\, Evanston\, IL\, 60202\, United States
CATEGORIES:Cover Band in Chicago
ORGANIZER;CN="Now & Then Chicago":MAILTO:info@nowandthenchicago.com
GEO:42.0337584;-87.6805729
X-APPLE-STRUCTURED-LOCATION;VALUE=URI;X-ADDRESS=La Principal 700 Main St Evanston IL 60202 United States;X-APPLE-RADIUS=500;X-TITLE=700 Main St:geo:-87.6805729,42.0337584
END:VEVENT
BEGIN:VEVENT
DTSTART;TZID=America/Chicago:20230701T193000
DTEND;TZID=America/Chicago:20230701T193000
DTSTAMP:20260421T071415
CREATED:20230426T021943Z
LAST-MODIFIED:20230426T021943Z
UID:10000048-1688239800-1688239800@nowandthenchicago.com
SUMMARY:Ten Ninety Brewing Co - Glenview
DESCRIPTION:
URL:https://nowandthenchicago.com/show/ten-ninety-brewing-co-glenview/
LOCATION:Ten-Ninety Brewing Co.\, 1025 Waukegan Rd\, Glenview\, IL\, 60025\, United States
CATEGORIES:Cover Band in Chicago
ORGANIZER;CN="Now & Then Chicago":MAILTO:info@nowandthenchicago.com
GEO:42.0733333;-87.7986111
X-APPLE-STRUCTURED-LOCATION;VALUE=URI;X-ADDRESS=Ten-Ninety Brewing Co. 1025 Waukegan Rd Glenview IL 60025 United States;X-APPLE-RADIUS=500;X-TITLE=1025 Waukegan Rd:geo:-87.7986111,42.0733333
END:VEVENT
BEGIN:VEVENT
DTSTART;TZID=America/Chicago:20230527T213000
DTEND;TZID=America/Chicago:20230527T213000
DTSTAMP:20260421T071415
CREATED:20221202T204359Z
LAST-MODIFIED:20230512T151834Z
UID:10000036-1685223000-1685223000@nowandthenchicago.com
SUMMARY:Mickey Finn's Brewery - Libertyville\, IL
DESCRIPTION:
URL:https://nowandthenchicago.com/show/mickey-finns-brewery-libertyville-il/
LOCATION:Mickey Finn’s Brewery\, 345 N Milwaukee Ave.\, Libertyville\, IL\, 60048\, United States
CATEGORIES:Cover Band in Chicago
ORGANIZER;CN="Now & Then Chicago":MAILTO:info@nowandthenchicago.com
GEO:42.2862266;-87.9546928
X-APPLE-STRUCTURED-LOCATION;VALUE=URI;X-ADDRESS=Mickey Finn’s Brewery 345 N Milwaukee Ave. Libertyville IL 60048 United States;X-APPLE-RADIUS=500;X-TITLE=345 N Milwaukee Ave.:geo:-87.9546928,42.2862266
END:VEVENT
BEGIN:VEVENT
DTSTART;TZID=America/Chicago:20230506T203000
DTEND;TZID=America/Chicago:20230506T233000
DTSTAMP:20260421T071415
CREATED:20230120T173231Z
LAST-MODIFIED:20230120T173231Z
UID:10000038-1683405000-1683415800@nowandthenchicago.com
SUMMARY:Norton's Restaurant - Highland Park
DESCRIPTION:
URL:https://nowandthenchicago.com/show/nortons-restaurant-highland-park-2/
LOCATION:Norton’s Restaurant\, 1905 Sheridan Rd\,\, Highland Park\, IL\, 60035\, United States
CATEGORIES:Cover Band in Chicago
ORGANIZER;CN="Now & Then Chicago":MAILTO:info@nowandthenchicago.com
GEO:42.1871329;-87.7974857
X-APPLE-STRUCTURED-LOCATION;VALUE=URI;X-ADDRESS=Norton’s Restaurant 1905 Sheridan Rd Highland Park IL 60035 United States;X-APPLE-RADIUS=500;X-TITLE=1905 Sheridan Rd\,:geo:-87.7974857,42.1871329
END:VEVENT
BEGIN:VEVENT
DTSTART;TZID=America/Chicago:20230429T210000
DTEND;TZID=America/Chicago:20230429T210000
DTSTAMP:20260421T071415
CREATED:20230418T231243Z
LAST-MODIFIED:20230418T231243Z
UID:10000046-1682802000-1682802000@nowandthenchicago.com
SUMMARY:Arlington Ale House - Arlington Heights
DESCRIPTION:
URL:https://nowandthenchicago.com/show/arlington-ale-house-arlington-heights-5/
LOCATION:Arlington Ale House\, 111 W Campbell St\, Arlington Heights\, IL\, 60005\, United States
CATEGORIES:Cover Band in Chicago
ORGANIZER;CN="Now & Then Chicago":MAILTO:info@nowandthenchicago.com
GEO:42.082604;-87.9844269
X-APPLE-STRUCTURED-LOCATION;VALUE=URI;X-ADDRESS=Arlington Ale House 111 W Campbell St Arlington Heights IL 60005 United States;X-APPLE-RADIUS=500;X-TITLE=111 W Campbell St:geo:-87.9844269,42.082604
END:VEVENT
BEGIN:VEVENT
DTSTART;TZID=America/Chicago:20230318T210000
DTEND;TZID=America/Chicago:20230319T000000
DTSTAMP:20260421T071415
CREATED:20230228T212919Z
LAST-MODIFIED:20230228T212919Z
UID:10000041-1679173200-1679184000@nowandthenchicago.com
SUMMARY:Blitz Sports Bar & BBQ - Arlington Heights
DESCRIPTION:
URL:https://nowandthenchicago.com/show/blitz-sports-bar-bbq-arlington-heights/
LOCATION:Blitz Sports Bar & BBQ\, 286 W Rand Rd\, Arlington Heights\, IL\, 60004\, United States
CATEGORIES:Cover Band in Chicago
ORGANIZER;CN="Now & Then Chicago":MAILTO:info@nowandthenchicago.com
GEO:42.1169208;-87.9858805
X-APPLE-STRUCTURED-LOCATION;VALUE=URI;X-ADDRESS=Blitz Sports Bar & BBQ 286 W Rand Rd Arlington Heights IL 60004 United States;X-APPLE-RADIUS=500;X-TITLE=286 W Rand Rd:geo:-87.9858805,42.1169208
END:VEVENT
BEGIN:VEVENT
DTSTART;TZID=America/Chicago:20230128T210000
DTEND;TZID=America/Chicago:20230129T000000
DTSTAMP:20260421T071415
CREATED:20221202T191020Z
LAST-MODIFIED:20221202T191020Z
UID:10000035-1674939600-1674950400@nowandthenchicago.com
SUMMARY:Arlington Ale House - Arlington Heights\, IL
DESCRIPTION:
URL:https://nowandthenchicago.com/show/arlington-ale-house-arlington-heights-il-4/
LOCATION:Arlington Ale House\, 111 W Campbell St\, Arlington Heights\, IL\, 60005\, United States
CATEGORIES:Cover Band in Chicago
ORGANIZER;CN="Now & Then Chicago":MAILTO:info@nowandthenchicago.com
GEO:42.082604;-87.9844269
X-APPLE-STRUCTURED-LOCATION;VALUE=URI;X-ADDRESS=Arlington Ale House 111 W Campbell St Arlington Heights IL 60005 United States;X-APPLE-RADIUS=500;X-TITLE=111 W Campbell St:geo:-87.9844269,42.082604
END:VEVENT
BEGIN:VEVENT
DTSTART;TZID=America/Chicago:20221119T210000
DTEND;TZID=America/Chicago:20221119T210000
DTSTAMP:20260421T071415
CREATED:20220401T165514Z
LAST-MODIFIED:20220401T165514Z
UID:10000024-1668891600-1668891600@nowandthenchicago.com
SUMMARY:Arlington Ale House – Arlington Heights\, IL
DESCRIPTION:
URL:https://nowandthenchicago.com/show/arlington-ale-house-arlington-heights-il-3/
LOCATION:Arlington Ale House\, 111 W Campbell St\, Arlington Heights\, IL\, 60005\, United States
CATEGORIES:Cover Band in Chicago
ORGANIZER;CN="Now & Then Chicago":MAILTO:info@nowandthenchicago.com
GEO:42.082604;-87.9844269
X-APPLE-STRUCTURED-LOCATION;VALUE=URI;X-ADDRESS=Arlington Ale House 111 W Campbell St Arlington Heights IL 60005 United States;X-APPLE-RADIUS=500;X-TITLE=111 W Campbell St:geo:-87.9844269,42.082604
END:VEVENT
END:VCALENDAR