BEGIN:VCALENDAR
VERSION:2.0
PRODID:-//Now &amp; Then Chicago Cover Band - ECPv6.15.20//NONSGML v1.0//EN
CALSCALE:GREGORIAN
METHOD:PUBLISH
X-WR-CALNAME:Now &amp; Then Chicago Cover Band
X-ORIGINAL-URL:https://nowandthenchicago.com
X-WR-CALDESC:Events for Now &amp; Then Chicago Cover Band
REFRESH-INTERVAL;VALUE=DURATION:PT1H
X-Robots-Tag:noindex
X-PUBLISHED-TTL:PT1H
BEGIN:VTIMEZONE
TZID:America/Chicago
BEGIN:DAYLIGHT
TZOFFSETFROM:-0600
TZOFFSETTO:-0500
TZNAME:CDT
DTSTART:20210314T080000
END:DAYLIGHT
BEGIN:STANDARD
TZOFFSETFROM:-0500
TZOFFSETTO:-0600
TZNAME:CST
DTSTART:20211107T070000
END:STANDARD
BEGIN:DAYLIGHT
TZOFFSETFROM:-0600
TZOFFSETTO:-0500
TZNAME:CDT
DTSTART:20220313T080000
END:DAYLIGHT
BEGIN:STANDARD
TZOFFSETFROM:-0500
TZOFFSETTO:-0600
TZNAME:CST
DTSTART:20221106T070000
END:STANDARD
BEGIN:DAYLIGHT
TZOFFSETFROM:-0600
TZOFFSETTO:-0500
TZNAME:CDT
DTSTART:20230312T080000
END:DAYLIGHT
BEGIN:STANDARD
TZOFFSETFROM:-0500
TZOFFSETTO:-0600
TZNAME:CST
DTSTART:20231105T070000
END:STANDARD
BEGIN:DAYLIGHT
TZOFFSETFROM:-0600
TZOFFSETTO:-0500
TZNAME:CDT
DTSTART:20240310T080000
END:DAYLIGHT
BEGIN:STANDARD
TZOFFSETFROM:-0500
TZOFFSETTO:-0600
TZNAME:CST
DTSTART:20241103T070000
END:STANDARD
END:VTIMEZONE
BEGIN:VTIMEZONE
TZID:UTC
BEGIN:STANDARD
TZOFFSETFROM:+0000
TZOFFSETTO:+0000
TZNAME:UTC
DTSTART:20210101T000000
END:STANDARD
END:VTIMEZONE
BEGIN:VEVENT
DTSTART;TZID=America/Chicago:20230527T213000
DTEND;TZID=America/Chicago:20230527T213000
DTSTAMP:20260421T100751
CREATED:20221202T204359Z
LAST-MODIFIED:20230512T151834Z
UID:10000036-1685223000-1685223000@nowandthenchicago.com
SUMMARY:Mickey Finn's Brewery - Libertyville\, IL
DESCRIPTION:
URL:https://nowandthenchicago.com/show/mickey-finns-brewery-libertyville-il/
LOCATION:Mickey Finn’s Brewery\, 345 N Milwaukee Ave.\, Libertyville\, IL\, 60048\, United States
CATEGORIES:Cover Band in Chicago
ORGANIZER;CN="Now & Then Chicago":MAILTO:info@nowandthenchicago.com
GEO:42.2862266;-87.9546928
X-APPLE-STRUCTURED-LOCATION;VALUE=URI;X-ADDRESS=Mickey Finn’s Brewery 345 N Milwaukee Ave. Libertyville IL 60048 United States;X-APPLE-RADIUS=500;X-TITLE=345 N Milwaukee Ave.:geo:-87.9546928,42.2862266
END:VEVENT
BEGIN:VEVENT
DTSTART;TZID=America/Chicago:20230506T203000
DTEND;TZID=America/Chicago:20230506T233000
DTSTAMP:20260421T100751
CREATED:20230120T173231Z
LAST-MODIFIED:20230120T173231Z
UID:10000038-1683405000-1683415800@nowandthenchicago.com
SUMMARY:Norton's Restaurant - Highland Park
DESCRIPTION:
URL:https://nowandthenchicago.com/show/nortons-restaurant-highland-park-2/
LOCATION:Norton’s Restaurant\, 1905 Sheridan Rd\,\, Highland Park\, IL\, 60035\, United States
CATEGORIES:Cover Band in Chicago
ORGANIZER;CN="Now & Then Chicago":MAILTO:info@nowandthenchicago.com
GEO:42.1871329;-87.7974857
X-APPLE-STRUCTURED-LOCATION;VALUE=URI;X-ADDRESS=Norton’s Restaurant 1905 Sheridan Rd Highland Park IL 60035 United States;X-APPLE-RADIUS=500;X-TITLE=1905 Sheridan Rd\,:geo:-87.7974857,42.1871329
END:VEVENT
BEGIN:VEVENT
DTSTART;TZID=America/Chicago:20230429T210000
DTEND;TZID=America/Chicago:20230429T210000
DTSTAMP:20260421T100751
CREATED:20230418T231243Z
LAST-MODIFIED:20230418T231243Z
UID:10000046-1682802000-1682802000@nowandthenchicago.com
SUMMARY:Arlington Ale House - Arlington Heights
DESCRIPTION:
URL:https://nowandthenchicago.com/show/arlington-ale-house-arlington-heights-5/
LOCATION:Arlington Ale House\, 111 W Campbell St\, Arlington Heights\, IL\, 60005\, United States
CATEGORIES:Cover Band in Chicago
ORGANIZER;CN="Now & Then Chicago":MAILTO:info@nowandthenchicago.com
GEO:42.082604;-87.9844269
X-APPLE-STRUCTURED-LOCATION;VALUE=URI;X-ADDRESS=Arlington Ale House 111 W Campbell St Arlington Heights IL 60005 United States;X-APPLE-RADIUS=500;X-TITLE=111 W Campbell St:geo:-87.9844269,42.082604
END:VEVENT
BEGIN:VEVENT
DTSTART;TZID=America/Chicago:20230318T210000
DTEND;TZID=America/Chicago:20230319T000000
DTSTAMP:20260421T100751
CREATED:20230228T212919Z
LAST-MODIFIED:20230228T212919Z
UID:10000041-1679173200-1679184000@nowandthenchicago.com
SUMMARY:Blitz Sports Bar & BBQ - Arlington Heights
DESCRIPTION:
URL:https://nowandthenchicago.com/show/blitz-sports-bar-bbq-arlington-heights/
LOCATION:Blitz Sports Bar & BBQ\, 286 W Rand Rd\, Arlington Heights\, IL\, 60004\, United States
CATEGORIES:Cover Band in Chicago
ORGANIZER;CN="Now & Then Chicago":MAILTO:info@nowandthenchicago.com
GEO:42.1169208;-87.9858805
X-APPLE-STRUCTURED-LOCATION;VALUE=URI;X-ADDRESS=Blitz Sports Bar & BBQ 286 W Rand Rd Arlington Heights IL 60004 United States;X-APPLE-RADIUS=500;X-TITLE=286 W Rand Rd:geo:-87.9858805,42.1169208
END:VEVENT
BEGIN:VEVENT
DTSTART;TZID=America/Chicago:20230128T210000
DTEND;TZID=America/Chicago:20230129T000000
DTSTAMP:20260421T100751
CREATED:20221202T191020Z
LAST-MODIFIED:20221202T191020Z
UID:10000035-1674939600-1674950400@nowandthenchicago.com
SUMMARY:Arlington Ale House - Arlington Heights\, IL
DESCRIPTION:
URL:https://nowandthenchicago.com/show/arlington-ale-house-arlington-heights-il-4/
LOCATION:Arlington Ale House\, 111 W Campbell St\, Arlington Heights\, IL\, 60005\, United States
CATEGORIES:Cover Band in Chicago
ORGANIZER;CN="Now & Then Chicago":MAILTO:info@nowandthenchicago.com
GEO:42.082604;-87.9844269
X-APPLE-STRUCTURED-LOCATION;VALUE=URI;X-ADDRESS=Arlington Ale House 111 W Campbell St Arlington Heights IL 60005 United States;X-APPLE-RADIUS=500;X-TITLE=111 W Campbell St:geo:-87.9844269,42.082604
END:VEVENT
BEGIN:VEVENT
DTSTART;TZID=America/Chicago:20221119T210000
DTEND;TZID=America/Chicago:20221119T210000
DTSTAMP:20260421T100751
CREATED:20220401T165514Z
LAST-MODIFIED:20220401T165514Z
UID:10000024-1668891600-1668891600@nowandthenchicago.com
SUMMARY:Arlington Ale House – Arlington Heights\, IL
DESCRIPTION:
URL:https://nowandthenchicago.com/show/arlington-ale-house-arlington-heights-il-3/
LOCATION:Arlington Ale House\, 111 W Campbell St\, Arlington Heights\, IL\, 60005\, United States
CATEGORIES:Cover Band in Chicago
ORGANIZER;CN="Now & Then Chicago":MAILTO:info@nowandthenchicago.com
GEO:42.082604;-87.9844269
X-APPLE-STRUCTURED-LOCATION;VALUE=URI;X-ADDRESS=Arlington Ale House 111 W Campbell St Arlington Heights IL 60005 United States;X-APPLE-RADIUS=500;X-TITLE=111 W Campbell St:geo:-87.9844269,42.082604
END:VEVENT
BEGIN:VEVENT
DTSTART;TZID=America/Chicago:20221105T193000
DTEND;TZID=America/Chicago:20221105T223000
DTSTAMP:20260421T100751
CREATED:20220719T200144Z
LAST-MODIFIED:20220719T200144Z
UID:10000029-1667676600-1667687400@nowandthenchicago.com
SUMMARY:Ten-Ninety Brewing Co. - Glenview\, IL
DESCRIPTION:
URL:https://nowandthenchicago.com/show/ten-ninety-brewing-co-glenview-il/
LOCATION:Ten-Ninety Brewing Co.\, 1025 Waukegan Rd\, Glenview\, IL\, 60025\, United States
CATEGORIES:Cover Band in Chicago
ORGANIZER;CN="Now & Then Chicago":MAILTO:info@nowandthenchicago.com
GEO:42.0733333;-87.7986111
X-APPLE-STRUCTURED-LOCATION;VALUE=URI;X-ADDRESS=Ten-Ninety Brewing Co. 1025 Waukegan Rd Glenview IL 60025 United States;X-APPLE-RADIUS=500;X-TITLE=1025 Waukegan Rd:geo:-87.7986111,42.0733333
END:VEVENT
BEGIN:VEVENT
DTSTART;TZID=America/Chicago:20221001T200000
DTEND;TZID=America/Chicago:20221001T200000
DTSTAMP:20260421T100751
CREATED:20220622T151358Z
LAST-MODIFIED:20220622T151358Z
UID:10000028-1664654400-1664654400@nowandthenchicago.com
SUMMARY:28 Mile Distilling Company - Highwood
DESCRIPTION:
URL:https://nowandthenchicago.com/show/28-mile-distilling-company-highwood/
LOCATION:28 Mile Distilling Company\, 454 Sheridan Rd\, Highwood\, IL\, 60040\, United States
CATEGORIES:Cover Band in Chicago
ORGANIZER;CN="Now & Then Chicago":MAILTO:info@nowandthenchicago.com
GEO:42.2050795;-87.8108521
X-APPLE-STRUCTURED-LOCATION;VALUE=URI;X-ADDRESS=28 Mile Distilling Company 454 Sheridan Rd Highwood IL 60040 United States;X-APPLE-RADIUS=500;X-TITLE=454 Sheridan Rd:geo:-87.8108521,42.2050795
END:VEVENT
BEGIN:VEVENT
DTSTART;TZID=America/Chicago:20220916T200000
DTEND;TZID=America/Chicago:20220916T230000
DTSTAMP:20260421T100751
CREATED:20220613T153738Z
LAST-MODIFIED:20220819T235952Z
UID:10000027-1663358400-1663369200@nowandthenchicago.com
SUMMARY:Tipsy O' Brians - Mundelein\, IL
DESCRIPTION:
URL:https://nowandthenchicago.com/show/teddy-o-brians-mundelein-il/
LOCATION:Teddy O’ Brians Mundelein\, 320 E Hawley St\, Mundelein\, 60060\, United States
CATEGORIES:Cover Band in Chicago
ORGANIZER;CN="Now & Then Chicago":MAILTO:info@nowandthenchicago.com
GEO:42.269793;-87.9995924
X-APPLE-STRUCTURED-LOCATION;VALUE=URI;X-ADDRESS=Teddy O’ Brians Mundelein 320 E Hawley St Mundelein 60060 United States;X-APPLE-RADIUS=500;X-TITLE=320 E Hawley St:geo:-87.9995924,42.269793
END:VEVENT
BEGIN:VEVENT
DTSTART;TZID=America/Chicago:20220910T210000
DTEND;TZID=America/Chicago:20220910T210000
DTSTAMP:20260421T100751
CREATED:20220401T165423Z
LAST-MODIFIED:20220401T165423Z
UID:10000023-1662843600-1662843600@nowandthenchicago.com
SUMMARY:Arlington Ale House – Arlington Heights\, IL
DESCRIPTION:
URL:https://nowandthenchicago.com/show/arlington-ale-house-arlington-heights-il-2/
LOCATION:Arlington Ale House\, 111 W Campbell St\, Arlington Heights\, IL\, 60005\, United States
CATEGORIES:Cover Band in Chicago
ORGANIZER;CN="Now & Then Chicago":MAILTO:info@nowandthenchicago.com
GEO:42.082604;-87.9844269
X-APPLE-STRUCTURED-LOCATION;VALUE=URI;X-ADDRESS=Arlington Ale House 111 W Campbell St Arlington Heights IL 60005 United States;X-APPLE-RADIUS=500;X-TITLE=111 W Campbell St:geo:-87.9844269,42.082604
END:VEVENT
BEGIN:VEVENT
DTSTART;TZID=America/Chicago:20220826T210000
DTEND;TZID=America/Chicago:20220826T210000
DTSTAMP:20260421T100751
CREATED:20220605T193020Z
LAST-MODIFIED:20220605T193020Z
UID:10000026-1661547600-1661547600@nowandthenchicago.com
SUMMARY:Madcats - Palatine\, IL
DESCRIPTION:
URL:https://nowandthenchicago.com/show/madcats-palatine-il/
LOCATION:Madcats\, 117 W Slade St.\, Palatine\, IL\, 60067\, United States
CATEGORIES:Cover Band in Chicago
ORGANIZER;CN="Now & Then Chicago":MAILTO:info@nowandthenchicago.com
GEO:42.1110241;-88.0469037
X-APPLE-STRUCTURED-LOCATION;VALUE=URI;X-ADDRESS=Madcats 117 W Slade St. Palatine IL 60067 United States;X-APPLE-RADIUS=500;X-TITLE=117 W Slade St.:geo:-88.0469037,42.1110241
END:VEVENT
BEGIN:VEVENT
DTSTART;TZID=America/Chicago:20220723T210000
DTEND;TZID=America/Chicago:20220723T210000
DTSTAMP:20260421T100751
CREATED:20220605T192637Z
LAST-MODIFIED:20220605T192637Z
UID:10000025-1658610000-1658610000@nowandthenchicago.com
SUMMARY:The Thirsty Tavern - Jefferson Park\, IL
DESCRIPTION:
URL:https://nowandthenchicago.com/show/the-thirsty-tavern-jefferson-park-il/
LOCATION:The Thirsty Tavern\, 5368 N Milwaukee Ave\, Chicago\, IL\, 60630\, United States
CATEGORIES:Cover Band in Chicago
ORGANIZER;CN="Now & Then Chicago":MAILTO:info@nowandthenchicago.com
GEO:41.9782245;-87.770615
X-APPLE-STRUCTURED-LOCATION;VALUE=URI;X-ADDRESS=The Thirsty Tavern 5368 N Milwaukee Ave Chicago IL 60630 United States;X-APPLE-RADIUS=500;X-TITLE=5368 N Milwaukee Ave:geo:-87.770615,41.9782245
END:VEVENT
BEGIN:VEVENT
DTSTART;TZID=America/Chicago:20220716T210000
DTEND;TZID=America/Chicago:20220716T210000
DTSTAMP:20260421T100751
CREATED:20220401T165231Z
LAST-MODIFIED:20220401T165231Z
UID:10000022-1658005200-1658005200@nowandthenchicago.com
SUMMARY:Arlington Ale House - Arlington Heights\, IL
DESCRIPTION:
URL:https://nowandthenchicago.com/show/arlington-ale-house-arlington-heights-il/
LOCATION:Arlington Ale House\, 111 W Campbell St\, Arlington Heights\, IL\, 60005\, United States
CATEGORIES:Cover Band in Chicago
ORGANIZER;CN="Now & Then Chicago":MAILTO:info@nowandthenchicago.com
GEO:42.082604;-87.9844269
X-APPLE-STRUCTURED-LOCATION;VALUE=URI;X-ADDRESS=Arlington Ale House 111 W Campbell St Arlington Heights IL 60005 United States;X-APPLE-RADIUS=500;X-TITLE=111 W Campbell St:geo:-87.9844269,42.082604
END:VEVENT
BEGIN:VEVENT
DTSTART;TZID=America/Chicago:20220708T200000
DTEND;TZID=America/Chicago:20220708T200000
DTSTAMP:20260421T100751
CREATED:20220401T165008Z
LAST-MODIFIED:20220401T165044Z
UID:10000021-1657310400-1657310400@nowandthenchicago.com
SUMMARY:Whiskey River Bar & Grill - Glenview\, IL
DESCRIPTION:
URL:https://nowandthenchicago.com/show/whiskey-river-bar-grill-glenview-il/
LOCATION:Whiskey River Bar & Grill\, 1850 Waukegan Rd\, Glenview\, IL\, 60025\, United States
CATEGORIES:Cover Band in Chicago
ORGANIZER;CN="Now & Then Chicago":MAILTO:info@nowandthenchicago.com
GEO:42.0887402;-87.7985421
X-APPLE-STRUCTURED-LOCATION;VALUE=URI;X-ADDRESS=Whiskey River Bar & Grill 1850 Waukegan Rd Glenview IL 60025 United States;X-APPLE-RADIUS=500;X-TITLE=1850 Waukegan Rd:geo:-87.7985421,42.0887402
END:VEVENT
BEGIN:VEVENT
DTSTART;TZID=America/Chicago:20220618T203000
DTEND;TZID=America/Chicago:20220618T203000
DTSTAMP:20260421T100751
CREATED:20220401T164702Z
LAST-MODIFIED:20220526T224033Z
UID:10000020-1655584200-1655584200@nowandthenchicago.com
SUMMARY:Norton’s Restaurant - Highland Park\, IL
DESCRIPTION:
URL:https://nowandthenchicago.com/show/nortons-restaurant-highland-park-il/
LOCATION:Norton’s Restaurant\, 1905 Sheridan Rd\,\, Highland Park\, IL\, 60035\, United States
CATEGORIES:Cover Band in Chicago
ORGANIZER;CN="Now & Then Chicago":MAILTO:info@nowandthenchicago.com
GEO:42.1871329;-87.7974857
X-APPLE-STRUCTURED-LOCATION;VALUE=URI;X-ADDRESS=Norton’s Restaurant 1905 Sheridan Rd Highland Park IL 60035 United States;X-APPLE-RADIUS=500;X-TITLE=1905 Sheridan Rd\,:geo:-87.7974857,42.1871329
END:VEVENT
BEGIN:VEVENT
DTSTART;TZID=America/Chicago:20220513T210000
DTEND;TZID=America/Chicago:20220513T210000
DTSTAMP:20260421T100751
CREATED:20220401T164200Z
LAST-MODIFIED:20220401T164729Z
UID:10000019-1652475600-1652475600@nowandthenchicago.com
SUMMARY:The Thirsty Tavern - Chicago\, IL
DESCRIPTION:
URL:https://nowandthenchicago.com/show/the-thirsty-tavern-chicago-il/
LOCATION:The Thirsty Tavern\, 5368 N Milwaukee Ave\, Chicago\, IL\, 60630\, United States
CATEGORIES:Cover Band in Chicago
ORGANIZER;CN="Now & Then Chicago":MAILTO:info@nowandthenchicago.com
GEO:41.9782245;-87.770615
X-APPLE-STRUCTURED-LOCATION;VALUE=URI;X-ADDRESS=The Thirsty Tavern 5368 N Milwaukee Ave Chicago IL 60630 United States;X-APPLE-RADIUS=500;X-TITLE=5368 N Milwaukee Ave:geo:-87.770615,41.9782245
END:VEVENT
BEGIN:VEVENT
DTSTART;TZID=UTC:20220507T203000
DTEND;TZID=UTC:20220507T203000
DTSTAMP:20260421T100751
CREATED:20220323T203737Z
LAST-MODIFIED:20220401T164345Z
UID:10000018-1651955400-1651955400@nowandthenchicago.com
SUMMARY:The Chicago Loop Sports Bar & Grill - Streamwood IL
DESCRIPTION:
URL:https://nowandthenchicago.com/show/the-chicago-loop-sports-bar-grill-streamwood-il/
LOCATION:The Chicago Loop Sports Bar & Grill\, 7 W Streamwood Blvd\, Streamwood\, IL\, 60107\, United States
CATEGORIES:Cover Band in Chicago
ORGANIZER;CN="Now & Then Chicago":MAILTO:info@nowandthenchicago.com
GEO:42.0215136;-88.1829836
X-APPLE-STRUCTURED-LOCATION;VALUE=URI;X-ADDRESS=The Chicago Loop Sports Bar & Grill 7 W Streamwood Blvd Streamwood IL 60107 United States;X-APPLE-RADIUS=500;X-TITLE=7 W Streamwood Blvd:geo:-88.1829836,42.0215136
END:VEVENT
END:VCALENDAR