BEGIN:VCALENDAR
VERSION:2.0
PRODID:-//Now &amp; Then Chicago Cover Band - ECPv6.15.20//NONSGML v1.0//EN
CALSCALE:GREGORIAN
METHOD:PUBLISH
X-ORIGINAL-URL:https://nowandthenchicago.com
X-WR-CALDESC:Events for Now &amp; Then Chicago Cover Band
REFRESH-INTERVAL;VALUE=DURATION:PT1H
X-Robots-Tag:noindex
X-PUBLISHED-TTL:PT1H
BEGIN:VTIMEZONE
TZID:America/Chicago
BEGIN:DAYLIGHT
TZOFFSETFROM:-0600
TZOFFSETTO:-0500
TZNAME:CDT
DTSTART:20210314T080000
END:DAYLIGHT
BEGIN:STANDARD
TZOFFSETFROM:-0500
TZOFFSETTO:-0600
TZNAME:CST
DTSTART:20211107T070000
END:STANDARD
BEGIN:DAYLIGHT
TZOFFSETFROM:-0600
TZOFFSETTO:-0500
TZNAME:CDT
DTSTART:20220313T080000
END:DAYLIGHT
BEGIN:STANDARD
TZOFFSETFROM:-0500
TZOFFSETTO:-0600
TZNAME:CST
DTSTART:20221106T070000
END:STANDARD
BEGIN:DAYLIGHT
TZOFFSETFROM:-0600
TZOFFSETTO:-0500
TZNAME:CDT
DTSTART:20230312T080000
END:DAYLIGHT
BEGIN:STANDARD
TZOFFSETFROM:-0500
TZOFFSETTO:-0600
TZNAME:CST
DTSTART:20231105T070000
END:STANDARD
END:VTIMEZONE
BEGIN:VTIMEZONE
TZID:UTC
BEGIN:STANDARD
TZOFFSETFROM:+0000
TZOFFSETTO:+0000
TZNAME:UTC
DTSTART:20210101T000000
END:STANDARD
END:VTIMEZONE
BEGIN:VEVENT
DTSTART;TZID=America/Chicago:20220716T210000
DTEND;TZID=America/Chicago:20220716T210000
DTSTAMP:20260421T130521
CREATED:20220401T165231Z
LAST-MODIFIED:20220401T165231Z
UID:10000022-1658005200-1658005200@nowandthenchicago.com
SUMMARY:Arlington Ale House - Arlington Heights\, IL
DESCRIPTION:
URL:https://nowandthenchicago.com/show/arlington-ale-house-arlington-heights-il/
LOCATION:Arlington Ale House\, 111 W Campbell St\, Arlington Heights\, IL\, 60005\, United States
CATEGORIES:Cover Band in Chicago
ORGANIZER;CN="Now & Then Chicago":MAILTO:info@nowandthenchicago.com
GEO:42.082604;-87.9844269
X-APPLE-STRUCTURED-LOCATION;VALUE=URI;X-ADDRESS=Arlington Ale House 111 W Campbell St Arlington Heights IL 60005 United States;X-APPLE-RADIUS=500;X-TITLE=111 W Campbell St:geo:-87.9844269,42.082604
END:VEVENT
BEGIN:VEVENT
DTSTART;TZID=America/Chicago:20220708T200000
DTEND;TZID=America/Chicago:20220708T200000
DTSTAMP:20260421T130521
CREATED:20220401T165008Z
LAST-MODIFIED:20220401T165044Z
UID:10000021-1657310400-1657310400@nowandthenchicago.com
SUMMARY:Whiskey River Bar & Grill - Glenview\, IL
DESCRIPTION:
URL:https://nowandthenchicago.com/show/whiskey-river-bar-grill-glenview-il/
LOCATION:Whiskey River Bar & Grill\, 1850 Waukegan Rd\, Glenview\, IL\, 60025\, United States
CATEGORIES:Cover Band in Chicago
ORGANIZER;CN="Now & Then Chicago":MAILTO:info@nowandthenchicago.com
GEO:42.0887402;-87.7985421
X-APPLE-STRUCTURED-LOCATION;VALUE=URI;X-ADDRESS=Whiskey River Bar & Grill 1850 Waukegan Rd Glenview IL 60025 United States;X-APPLE-RADIUS=500;X-TITLE=1850 Waukegan Rd:geo:-87.7985421,42.0887402
END:VEVENT
BEGIN:VEVENT
DTSTART;TZID=America/Chicago:20220618T203000
DTEND;TZID=America/Chicago:20220618T203000
DTSTAMP:20260421T130521
CREATED:20220401T164702Z
LAST-MODIFIED:20220526T224033Z
UID:10000020-1655584200-1655584200@nowandthenchicago.com
SUMMARY:Norton’s Restaurant - Highland Park\, IL
DESCRIPTION:
URL:https://nowandthenchicago.com/show/nortons-restaurant-highland-park-il/
LOCATION:Norton’s Restaurant\, 1905 Sheridan Rd\,\, Highland Park\, IL\, 60035\, United States
CATEGORIES:Cover Band in Chicago
ORGANIZER;CN="Now & Then Chicago":MAILTO:info@nowandthenchicago.com
GEO:42.1871329;-87.7974857
X-APPLE-STRUCTURED-LOCATION;VALUE=URI;X-ADDRESS=Norton’s Restaurant 1905 Sheridan Rd Highland Park IL 60035 United States;X-APPLE-RADIUS=500;X-TITLE=1905 Sheridan Rd\,:geo:-87.7974857,42.1871329
END:VEVENT
BEGIN:VEVENT
DTSTART;TZID=America/Chicago:20220513T210000
DTEND;TZID=America/Chicago:20220513T210000
DTSTAMP:20260421T130521
CREATED:20220401T164200Z
LAST-MODIFIED:20220401T164729Z
UID:10000019-1652475600-1652475600@nowandthenchicago.com
SUMMARY:The Thirsty Tavern - Chicago\, IL
DESCRIPTION:
URL:https://nowandthenchicago.com/show/the-thirsty-tavern-chicago-il/
LOCATION:The Thirsty Tavern\, 5368 N Milwaukee Ave\, Chicago\, IL\, 60630\, United States
CATEGORIES:Cover Band in Chicago
ORGANIZER;CN="Now & Then Chicago":MAILTO:info@nowandthenchicago.com
GEO:41.9782245;-87.770615
X-APPLE-STRUCTURED-LOCATION;VALUE=URI;X-ADDRESS=The Thirsty Tavern 5368 N Milwaukee Ave Chicago IL 60630 United States;X-APPLE-RADIUS=500;X-TITLE=5368 N Milwaukee Ave:geo:-87.770615,41.9782245
END:VEVENT
BEGIN:VEVENT
DTSTART;TZID=UTC:20220507T203000
DTEND;TZID=UTC:20220507T203000
DTSTAMP:20260421T130521
CREATED:20220323T203737Z
LAST-MODIFIED:20220401T164345Z
UID:10000018-1651955400-1651955400@nowandthenchicago.com
SUMMARY:The Chicago Loop Sports Bar & Grill - Streamwood IL
DESCRIPTION:
URL:https://nowandthenchicago.com/show/the-chicago-loop-sports-bar-grill-streamwood-il/
LOCATION:The Chicago Loop Sports Bar & Grill\, 7 W Streamwood Blvd\, Streamwood\, IL\, 60107\, United States
CATEGORIES:Cover Band in Chicago
ORGANIZER;CN="Now & Then Chicago":MAILTO:info@nowandthenchicago.com
GEO:42.0215136;-88.1829836
X-APPLE-STRUCTURED-LOCATION;VALUE=URI;X-ADDRESS=The Chicago Loop Sports Bar & Grill 7 W Streamwood Blvd Streamwood IL 60107 United States;X-APPLE-RADIUS=500;X-TITLE=7 W Streamwood Blvd:geo:-88.1829836,42.0215136
END:VEVENT
END:VCALENDAR