BEGIN:VCALENDAR
VERSION:2.0
PRODID:-//Now &amp; Then Chicago Cover Band - ECPv6.15.20//NONSGML v1.0//EN
CALSCALE:GREGORIAN
METHOD:PUBLISH
X-WR-CALNAME:Now &amp; Then Chicago Cover Band
X-ORIGINAL-URL:https://nowandthenchicago.com
X-WR-CALDESC:Events for Now &amp; Then Chicago Cover Band
REFRESH-INTERVAL;VALUE=DURATION:PT1H
X-Robots-Tag:noindex
X-PUBLISHED-TTL:PT1H
BEGIN:VTIMEZONE
TZID:America/Chicago
BEGIN:DAYLIGHT
TZOFFSETFROM:-0600
TZOFFSETTO:-0500
TZNAME:CDT
DTSTART:20210314T080000
END:DAYLIGHT
BEGIN:STANDARD
TZOFFSETFROM:-0500
TZOFFSETTO:-0600
TZNAME:CST
DTSTART:20211107T070000
END:STANDARD
BEGIN:DAYLIGHT
TZOFFSETFROM:-0600
TZOFFSETTO:-0500
TZNAME:CDT
DTSTART:20220313T080000
END:DAYLIGHT
BEGIN:STANDARD
TZOFFSETFROM:-0500
TZOFFSETTO:-0600
TZNAME:CST
DTSTART:20221106T070000
END:STANDARD
BEGIN:DAYLIGHT
TZOFFSETFROM:-0600
TZOFFSETTO:-0500
TZNAME:CDT
DTSTART:20230312T080000
END:DAYLIGHT
BEGIN:STANDARD
TZOFFSETFROM:-0500
TZOFFSETTO:-0600
TZNAME:CST
DTSTART:20231105T070000
END:STANDARD
END:VTIMEZONE
BEGIN:VEVENT
DTSTART;TZID=America/Chicago:20221015T200000
DTEND;TZID=America/Chicago:20221015T230000
DTSTAMP:20260421T181023
CREATED:20220831T143110Z
LAST-MODIFIED:20220831T143110Z
UID:10000031-1665864000-1665874800@nowandthenchicago.com
SUMMARY:Draft Picks - Mount Prospect
DESCRIPTION:
URL:https://nowandthenchicago.com/show/draft-picks-mount-prospect/
LOCATION:Draft Picks – Mount Prospect\, 912 Busse Rd\, Mount Prospect\, IL\, 60056\, United States
ORGANIZER;CN="Now & Then Chicago":MAILTO:info@nowandthenchicago.com
GEO:42.0488767;-87.9606259
X-APPLE-STRUCTURED-LOCATION;VALUE=URI;X-ADDRESS=Draft Picks – Mount Prospect 912 Busse Rd Mount Prospect IL 60056 United States;X-APPLE-RADIUS=500;X-TITLE=912 Busse Rd:geo:-87.9606259,42.0488767
END:VEVENT
END:VCALENDAR